{
 "currentVersion": 10.91,
 "serviceDescription": "",
 "mapName": "Layers",
 "description": "",
 "copyrightText": "",
 "supportsDynamicLayers": true,
 "layers": [
  {
   "id": 0,
   "name": "CountyBoundaries",
   "parentLayerId": -1,
   "defaultVisibility": true,
   "subLayerIds": null,
   "minScale": 0,
   "maxScale": 100000,
   "type": "Feature Layer",
   "geometryType": "esriGeometryPolygon"
  },
  {
   "id": 1,
   "name": "Mitchell_2014.sid",
   "parentLayerId": -1,
   "defaultVisibility": true,
   "subLayerIds": null,
   "minScale": 100000,
   "maxScale": 0,
   "type": "Raster Layer"
  },
  {
   "id": 2,
   "name": "Yancey_2014.sid",
   "parentLayerId": -1,
   "defaultVisibility": true,
   "subLayerIds": null,
   "minScale": 100000,
   "maxScale": 0,
   "type": "Raster Layer"
  },
  {
   "id": 3,
   "name": "McDowell_2014.sid",
   "parentLayerId": -1,
   "defaultVisibility": true,
   "subLayerIds": null,
   "minScale": 100000,
   "maxScale": 0,
   "type": "Raster Layer"
  },
  {
   "id": 4,
   "name": "Avery_2014.sid",
   "parentLayerId": -1,
   "defaultVisibility": true,
   "subLayerIds": null,
   "minScale": 100000,
   "maxScale": 0,
   "type": "Raster Layer"
  }
 ],
 "tables": [],
 "spatialReference": {
  "wkid": 102719,
  "latestWkid": 2264
 },
 "singleFusedMapCache": true,
 "tileInfo": {
  "rows": 256,
  "cols": 256,
  "dpi": 96,
  "format": "MIXED",
  "compressionQuality": 75,
  "origin": {
   "x": -121841900,
   "y": 154024800
  },
  "spatialReference": {
   "wkid": 102719,
   "latestWkid": 2264
  },
  "lods": [
   {
    "level": 0,
    "resolution": 533.3333333333333,
    "scale": 614400
   },
   {
    "level": 1,
    "resolution": 266.66666666666663,
    "scale": 307200
   },
   {
    "level": 2,
    "resolution": 133.33333333333331,
    "scale": 153600
   },
   {
    "level": 3,
    "resolution": 66.66666666666666,
    "scale": 76800
   },
   {
    "level": 4,
    "resolution": 33.33333333333333,
    "scale": 38400
   },
   {
    "level": 5,
    "resolution": 16.666666666666664,
    "scale": 19200
   },
   {
    "level": 6,
    "resolution": 8.333333333333332,
    "scale": 9600
   },
   {
    "level": 7,
    "resolution": 4.166666666666666,
    "scale": 4800
   },
   {
    "level": 8,
    "resolution": 2.083333333333333,
    "scale": 2400
   },
   {
    "level": 9,
    "resolution": 1.0416666666666665,
    "scale": 1200
   },
   {
    "level": 10,
    "resolution": 0.5208333333333333,
    "scale": 600
   },
   {
    "level": 11,
    "resolution": 0.26041666666666663,
    "scale": 300
   }
  ]
 },
 "initialExtent": {
  "xmin": 858097.8821515574,
  "ymin": 747749.5952970455,
  "xmax": 1296493.1179045455,
  "ymax": 949955.149772261,
  "spatialReference": {
   "wkid": 102719,
   "latestWkid": 2264
  }
 },
 "fullExtent": {
  "xmin": 955000.0026166635,
  "ymin": 654999.999999991,
  "xmax": 1200000.002616668,
  "ymax": 945000.0000000024,
  "spatialReference": {
   "wkid": 102719,
   "latestWkid": 2264
  }
 },
 "minScale": 614400,
 "maxScale": 300,
 "minLOD": 0,
 "maxLOD": 11,
 "units": "esriFeet",
 "supportedImageFormatTypes": "PNG32,PNG24,PNG,JPG,DIB,TIFF,EMF,PS,PDF,GIF,SVG,SVGZ,BMP",
 "documentInfo": {
  "Title": "",
  "Author": "",
  "Comments": "",
  "Subject": "Mitchell County 2014 Orthos",
  "Category": "",
  "AntialiasingMode": "None",
  "TextAntialiasingMode": "Force",
  "Keywords": "Orthos,Aerial Imagery"
 },
 "capabilities": "Map,Query,Data",
 "supportedQueryFormats": "JSON, geoJSON",
 "exportTilesAllowed": false,
 "referenceScale": 0,
 "datumTransformations": [
  {
   "geoTransforms": [
    {
     "wkid": 108001,
     "latestWkid": 1241,
     "transformForward": true,
     "name": "NAD_1927_To_NAD_1983_NADCON"
    }
   ]
  },
  {
   "geoTransforms": [
    {
     "wkid": 108001,
     "latestWkid": 1241,
     "transformForward": false,
     "name": "NAD_1927_To_NAD_1983_NADCON"
    }
   ]
  }
 ],
 "supportsDatumTransformation": true,
 "maxRecordCount": 1000,
 "maxImageHeight": 4096,
 "maxImageWidth": 4096,
 "supportedExtensions": ""
}
